BEGIN:VCALENDAR
VERSION:2.0
PRODID:-//MercatorJazz - ECPv6.15.20//NONSGML v1.0//EN
CALSCALE:GREGORIAN
METHOD:PUBLISH
X-WR-CALNAME:MercatorJazz
X-ORIGINAL-URL:https://mercatorjazz.de
X-WR-CALDESC:Veranstaltungen für MercatorJazz
REFRESH-INTERVAL;VALUE=DURATION:PT1H
X-Robots-Tag:noindex
X-PUBLISHED-TTL:PT1H
BEGIN:VTIMEZONE
TZID:UTC
BEGIN:STANDARD
TZOFFSETFROM:+0000
TZOFFSETTO:+0000
TZNAME:UTC
DTSTART:20230101T000000
END:STANDARD
END:VTIMEZONE
BEGIN:VEVENT
DTSTART;TZID=UTC:20240914T200000
DTEND;TZID=UTC:20240914T220000
DTSTAMP:20260424T125531
CREATED:20240215T131256Z
LAST-MODIFIED:20240215T131256Z
UID:11160-1726344000-1726351200@mercatorjazz.de
SUMMARY:Alma Naidu & Band
DESCRIPTION:Alma Naidu \, voc\, p  | Philipp Schiepek\, git  |Lisa Wulff\, bass-git  |  Valentin Renner \, drums\n \nAlma Naidu ist eine preisgekrönte Sängerin und Komponis-tin aus München\, Deutschland. Die Süddeutsche Zeitung bezeichnete sie als eine „eine der viel versprechendsten Sängerinnen der deutschen Szene“\, das Jazzthing Magazin lobte ihr „zart elegische\, wunderschön klare und absolut intonationssichere Stimme“. Die Jazzwoche Burghausen\, das Nublu Festival New York\, Jazzfest Bonn und die Leverkuse-ner Jazztage gaben ihr die Bühne. Mit Top-Drummer Wolf-gang Haffner tourte sie in Indien\, in die Mongolei und USA. \nIhr Studium in Jazzgesang absolvierte Naidu an der Hochschule für Musik und Theater München sowie an der Royal Academy of Music in London – hier u.a. bei der großen Norma Winstone.   Mit ihrem Debütalbum „Alma“ – zu deutsch: Seele – stellt die Sängerin Naidu fast ausschließlich selbst komponierte und arrangierte Titel vor. Haffner\, Claus Fischer\, Simon Oslender\, sogar Nils Landgren und Dominic Miller gaben sich auch noch die Ehre. Mehr Traumstart geht wohl kaum. \n\n\nimage-Alma-Naidu_foto-Tom-Schneider.
URL:https://mercatorjazz.de/event/alma-naidu-band/
LOCATION:Volksbank Rhein-Ruhr\, Am Innenhafen 8 - 10\, Duisburg\, NRW\, 47059\, Deutschland
ATTACH;FMTTYPE=image/jpeg:https://mercatorjazz.de/wp-content/uploads/2024/02/image-Alma-Naidu_foto-Tom-Schneider.jpg
ORGANIZER;CN="MercatorJazz":MAILTO:pressler@mercatorjazz.de
END:VEVENT
END:VCALENDAR